BEGIN:VCALENDAR
VERSION:2.0
PRODID:-//inf.ug.edu.pl/plan//NONSGML kigkonsult.se iCalcreator 2.39.1//
CALSCALE:GREGORIAN
UID:28795847-a384-44f8-a1e5-f4a9e53bfe49
SOURCE:https://inf.ug.edu.pl/?format=ical&nauczyciel=Kwela%2C+Marta%2C+dr
X-WR-TIMEZONE:Europe/Warsaw
BEGIN:VTIMEZONE
TZID:Europe/Warsaw
X-LIC-LOCATION:Europe/Warsaw
BEGIN:STANDARD
TZNAME:CET
DTSTART:20251026T030000
TZOFFSETFROM:+0200
TZOFFSETTO:+0100
RDATE:20261025T030000
END:STANDARD
BEGIN:DAYLIGHT
TZNAME:CEST
DTSTART:20260329T020000
TZOFFSETFROM:+0100
TZOFFSETTO:+0200
RDATE:20270328T020000
END:DAYLIGHT
END:VTIMEZONE
BEGIN:VEVENT
UID:0
DTSTAMP:20260424T125905Z
CATEGORIES:ćwiczenia
DESCRIPTION:
DTSTART:20260223T100000
DURATION:PT2H
LOCATION:A218
RRULE:FREQ=WEEKLY;UNTIL=20260608T000000Z
SUMMARY:Teoria liczb\n
END:VEVENT
BEGIN:VEVENT
UID:1
DTSTAMP:20260424T125905Z
CATEGORIES:ćwiczenia
DESCRIPTION:1E gr. 1
DTSTART:20260225T120000
DURATION:PT2H
LOCATION:A218
RRULE:FREQ=WEEKLY;UNTIL=20260610T000000Z
SUMMARY:Matematyka dyskretna\n1E gr. 1
END:VEVENT
BEGIN:VEVENT
UID:2
DTSTAMP:20260424T125905Z
CATEGORIES:ćwiczenia
DESCRIPTION:1E gr. 2
DTSTART:20260227T120000
DURATION:PT2H
LOCATION:A320
RRULE:FREQ=WEEKLY;UNTIL=20260612T000000Z
SUMMARY:Matematyka dyskretna\n1E gr. 2
END:VEVENT
END:VCALENDAR
